BEGIN:VCALENDAR
VERSION:2.0
PRODID:-//ETFT - ECPv6.15.13.1//NONSGML v1.0//EN
CALSCALE:GREGORIAN
METHOD:PUBLISH
X-ORIGINAL-URL:https://etft.de
X-WR-CALDESC:Veranstaltungen für ETFT
REFRESH-INTERVAL;VALUE=DURATION:PT1H
X-Robots-Tag:noindex
X-PUBLISHED-TTL:PT1H
BEGIN:VTIMEZONE
TZID:Europe/Paris
BEGIN:DAYLIGHT
TZOFFSETFROM:+0100
TZOFFSETTO:+0200
TZNAME:CEST
DTSTART:20250330T010000
END:DAYLIGHT
BEGIN:STANDARD
TZOFFSETFROM:+0200
TZOFFSETTO:+0100
TZNAME:CET
DTSTART:20251026T010000
END:STANDARD
BEGIN:DAYLIGHT
TZOFFSETFROM:+0100
TZOFFSETTO:+0200
TZNAME:CEST
DTSTART:20260329T010000
END:DAYLIGHT
BEGIN:STANDARD
TZOFFSETFROM:+0200
TZOFFSETTO:+0100
TZNAME:CET
DTSTART:20261025T010000
END:STANDARD
BEGIN:DAYLIGHT
TZOFFSETFROM:+0100
TZOFFSETTO:+0200
TZNAME:CEST
DTSTART:20270328T010000
END:DAYLIGHT
BEGIN:STANDARD
TZOFFSETFROM:+0200
TZOFFSETTO:+0100
TZNAME:CET
DTSTART:20271031T010000
END:STANDARD
END:VTIMEZONE
BEGIN:VEVENT
DTSTART;TZID=Europe/Paris:20260212T121500
DTEND;TZID=Europe/Paris:20260212T121500
DTSTAMP:20260419T223518
CREATED:20251114T111900Z
LAST-MODIFIED:20251114T130416Z
UID:2163-1770898500-1770898500@etft.de
SUMMARY:Tagung: Theologische Forschung\, Lehre und Infrastruktur im Kontext von Digitalisierung und KI
DESCRIPTION:Vom 12.-13. Februar 2026 organisiert der E-TFT gemeinsam mit der KIET\, dem Katholisch-Theologischen Fakultätentag\, der Tübinger Universität sowie dem dort ansässigen Fachinformationsdienst Theologie eine Tagung zu Digitalisierung und Künstlicher Intelligenz in der Theologie. Nähere Informationen und Anmeldemodalitäten finden Sie hier:  https://ixtheo.de/Content/digi2026.
URL:https://etft.de/event/tagung-theologische-forschung-lehre-und-infrastruktur-im-kontext-von-digitalisierung-und-ki/
END:VEVENT
END:VCALENDAR