BEGIN:VCALENDAR
VERSION:2.0
PRODID:-//ETFT - ECPv6.15.13.1//NONSGML v1.0//EN
CALSCALE:GREGORIAN
METHOD:PUBLISH
X-ORIGINAL-URL:https://etft.de
X-WR-CALDESC:Veranstaltungen für ETFT
REFRESH-INTERVAL;VALUE=DURATION:PT1H
X-Robots-Tag:noindex
X-PUBLISHED-TTL:PT1H
BEGIN:VTIMEZONE
TZID:UTC
BEGIN:STANDARD
TZOFFSETFROM:+0000
TZOFFSETTO:+0000
TZNAME:UTC
DTSTART:20240101T000000
END:STANDARD
END:VTIMEZONE
BEGIN:VEVENT
DTSTART;TZID=UTC:20251009T000000
DTEND;TZID=UTC:20251011T235900
DTSTAMP:20260420T082049
CREATED:20231118T082900Z
LAST-MODIFIED:20250701T123224Z
UID:869-1759968000-1760227140@etft.de
SUMMARY:E-TFT 2025 Göttingen
DESCRIPTION:Der evangelisch theologische Fakultätentag findet im Jahr 2025 vom 9. bis 11. Oktober in Göttingen statt.
URL:https://etft.de/event/e-tft-2025/
LOCATION:Göttingen
ORGANIZER;CN="Evangelisch theologische Fakult%C3%A4tentag":MAILTO:vorsitz@etft.de
END:VEVENT
END:VCALENDAR