BEGIN:VCALENDAR
VERSION:2.0
PRODID:-//ETFT - ECPv6.15.13.1//NONSGML v1.0//EN
CALSCALE:GREGORIAN
METHOD:PUBLISH
X-ORIGINAL-URL:https://etft.de
X-WR-CALDESC:Veranstaltungen für ETFT
REFRESH-INTERVAL;VALUE=DURATION:PT1H
X-Robots-Tag:noindex
X-PUBLISHED-TTL:PT1H
BEGIN:VTIMEZONE
TZID:UTC
BEGIN:STANDARD
TZOFFSETFROM:+0000
TZOFFSETTO:+0000
TZNAME:UTC
DTSTART:20230101T000000
END:STANDARD
END:VTIMEZONE
BEGIN:VEVENT
DTSTART;TZID=UTC:20241010T000000
DTEND;TZID=UTC:20241012T235900
DTSTAMP:20260421T051224
CREATED:20231118T090503Z
LAST-MODIFIED:20240412T093039Z
UID:900-1728518400-1728777540@etft.de
SUMMARY:E-TFT 2024 Hamburg
DESCRIPTION:Der evangelisch theologische Fakultätentag findet im Jahr 2024 vom 10. bis 12. Oktober in Hamburg statt.
URL:https://etft.de/event/e-tft-2024/
LOCATION:Hamburg\, Deutschland
ORGANIZER;CN="Evangelisch theologische Fakult%C3%A4tentag":MAILTO:vorsitz@etft.de
END:VEVENT
END:VCALENDAR